BEGIN:VCALENDAR
VERSION:2.0
PRODID:-//Seacoast Test Prep - ECPv6.15.20//NONSGML v1.0//EN
CALSCALE:GREGORIAN
METHOD:PUBLISH
X-WR-CALNAME:Seacoast Test Prep
X-ORIGINAL-URL:https://seacoasttestprep.com
X-WR-CALDESC:Events for Seacoast Test Prep
REFRESH-INTERVAL;VALUE=DURATION:PT1H
X-Robots-Tag:noindex
X-PUBLISHED-TTL:PT1H
BEGIN:VTIMEZONE
TZID:America/New_York
BEGIN:DAYLIGHT
TZOFFSETFROM:-0500
TZOFFSETTO:-0400
TZNAME:EDT
DTSTART:20250309T070000
END:DAYLIGHT
BEGIN:STANDARD
TZOFFSETFROM:-0400
TZOFFSETTO:-0500
TZNAME:EST
DTSTART:20251102T060000
END:STANDARD
BEGIN:DAYLIGHT
TZOFFSETFROM:-0500
TZOFFSETTO:-0400
TZNAME:EDT
DTSTART:20260308T070000
END:DAYLIGHT
BEGIN:STANDARD
TZOFFSETFROM:-0400
TZOFFSETTO:-0500
TZNAME:EST
DTSTART:20261101T060000
END:STANDARD
BEGIN:DAYLIGHT
TZOFFSETFROM:-0500
TZOFFSETTO:-0400
TZNAME:EDT
DTSTART:20270314T070000
END:DAYLIGHT
BEGIN:STANDARD
TZOFFSETFROM:-0400
TZOFFSETTO:-0500
TZNAME:EST
DTSTART:20271107T060000
END:STANDARD
END:VTIMEZONE
BEGIN:VEVENT
DTSTART;TZID=America/New_York:20260219T080000
DTEND;TZID=America/New_York:20260219T170000
DTSTAMP:20260424T061205
CREATED:20260219T200136Z
LAST-MODIFIED:20260219T200136Z
UID:2687-1771488000-1771520400@seacoasttestprep.com
SUMMARY:Late Summer Course for October 3rd & November 7th SAT
DESCRIPTION:Detailed Course Overview \nPractice Test #1: Saturday\, August 1\, 2026\, 9:00am-12:00pm\nMath Session #1: Wednesday\, August 5\, 2026 5:00pm-7:00pm\nReading & Writing Session #1: Wednesday\, August 12\, 2026\, 5:00pm-7:00pm\nMath Session #2: Wednesday\, August 19\, 2026 5:00pm-7:00pm\nReading & Writing Session #2: Wednesday\, August 26\, 2026\, 5:00pm-7:00pm\nMath Session #3: Wednesday\, April 20\, 2026 5:00pm-7:00pm\nReading & Writing Session #3: Wednesday\, September 2\, 2026\, 5:00pm-7:00pm\nMath Session #4: Wednesday\, September 9\, 2026\, 5:00pm-7:00pm\nReading & Writing Session #4: Wednesday\, September 16\, 2026 5:00pm-7:00pm\nPractice Test #2: Saturday\, September 26\, 2026\, 9:00am-12:00pm\nMath Session #5: Wednesday\, September 30\, 2026\, 5:00pm-7:00pm \nENROLL IN THIS COURSE
URL:https://seacoasttestprep.com/event/late-summer-course-for-october-3rd-november-7th-sat/
LOCATION:NH
CATEGORIES:Full Course
END:VEVENT
END:VCALENDAR