BEGIN:VCALENDAR
VERSION:2.0
PRODID:-//Seacoast Test Prep - ECPv6.15.20//NONSGML v1.0//EN
CALSCALE:GREGORIAN
METHOD:PUBLISH
X-WR-CALNAME:Seacoast Test Prep
X-ORIGINAL-URL:https://seacoasttestprep.com
X-WR-CALDESC:Events for Seacoast Test Prep
REFRESH-INTERVAL;VALUE=DURATION:PT1H
X-Robots-Tag:noindex
X-PUBLISHED-TTL:PT1H
BEGIN:VTIMEZONE
TZID:America/New_York
BEGIN:DAYLIGHT
TZOFFSETFROM:-0500
TZOFFSETTO:-0400
TZNAME:EDT
DTSTART:20230312T070000
END:DAYLIGHT
BEGIN:STANDARD
TZOFFSETFROM:-0400
TZOFFSETTO:-0500
TZNAME:EST
DTSTART:20231105T060000
END:STANDARD
BEGIN:DAYLIGHT
TZOFFSETFROM:-0500
TZOFFSETTO:-0400
TZNAME:EDT
DTSTART:20240310T070000
END:DAYLIGHT
BEGIN:STANDARD
TZOFFSETFROM:-0400
TZOFFSETTO:-0500
TZNAME:EST
DTSTART:20241103T060000
END:STANDARD
BEGIN:DAYLIGHT
TZOFFSETFROM:-0500
TZOFFSETTO:-0400
TZNAME:EDT
DTSTART:20250309T070000
END:DAYLIGHT
BEGIN:STANDARD
TZOFFSETFROM:-0400
TZOFFSETTO:-0500
TZNAME:EST
DTSTART:20251102T060000
END:STANDARD
END:VTIMEZONE
BEGIN:VEVENT
DTSTART;TZID=America/New_York:20240812T170000
DTEND;TZID=America/New_York:20240812T190000
DTSTAMP:20260423T034807
CREATED:20240409T133904Z
LAST-MODIFIED:20240409T133904Z
UID:2569-1723482000-1723489200@seacoasttestprep.com
SUMMARY:Late Summer Course for Oct. 5th & Nov. 2nd SAT
DESCRIPTION:Detailed Course Overview \nReading & Writing Session: #1 Monday\, August 12\, 2024\, 5:00 p.m. – 7:00 p.m.\nPractice Test #1: Saturday\, August 17\, 2024\, 9:00 a.m. – 12:00 p.m.\nMath Session #1: Monday\, August 19\, 2024\, 5:00 p.m. – 7:00 p.m.\nReading & Writing Session #2: Monday\, August 26\, 2024\, 5:00 p.m. – 7:00 p.m.\nMath Session #2: Tuesday\, September 3\, 2024\, 5:00 p.m. – 7:00 p.m.\nReading & Writing Session #3: Monday\, September 9\, 2024\, 5:00 p.m. – 7:00 p.m.\nMath Session #3: Monday\, September 16\, 2024\, 5:00 p.m. – 7:00 p.m.\nReading & Writing Session #4: Monday\, September 23\, 2024\, 5:00 p.m. – 7:00 p.m.\nPractice Test #2: Saturday\, September 28\, 2024\, 9:00 a.m. – 12:00 p.m.\nMath Session #4: Monday\, September 30\, 2024\, 5:00 p.m. – 7:00 p.m. \nENROLL IN THIS COURSE
URL:https://seacoasttestprep.com/event/late-summer-course-for-oct-5th-nov-2nd-sat/
LOCATION:125 Main Street\, Newmarket\, NH\, 125 Main Street\, Newmarket\, NH\, 03857\, United States
CATEGORIES:Full Course
END:VEVENT
END:VCALENDAR