BEGIN:VCALENDAR
VERSION:2.0
PRODID:-//Seacoast Test Prep - ECPv6.15.20//NONSGML v1.0//EN
CALSCALE:GREGORIAN
METHOD:PUBLISH
X-WR-CALNAME:Seacoast Test Prep
X-ORIGINAL-URL:https://seacoasttestprep.com
X-WR-CALDESC:Events for Seacoast Test Prep
REFRESH-INTERVAL;VALUE=DURATION:PT1H
X-Robots-Tag:noindex
X-PUBLISHED-TTL:PT1H
BEGIN:VTIMEZONE
TZID:America/New_York
BEGIN:DAYLIGHT
TZOFFSETFROM:-0500
TZOFFSETTO:-0400
TZNAME:EDT
DTSTART:20240310T070000
END:DAYLIGHT
BEGIN:STANDARD
TZOFFSETFROM:-0400
TZOFFSETTO:-0500
TZNAME:EST
DTSTART:20241103T060000
END:STANDARD
BEGIN:DAYLIGHT
TZOFFSETFROM:-0500
TZOFFSETTO:-0400
TZNAME:EDT
DTSTART:20250309T070000
END:DAYLIGHT
BEGIN:STANDARD
TZOFFSETFROM:-0400
TZOFFSETTO:-0500
TZNAME:EST
DTSTART:20251102T060000
END:STANDARD
BEGIN:DAYLIGHT
TZOFFSETFROM:-0500
TZOFFSETTO:-0400
TZNAME:EDT
DTSTART:20260308T070000
END:DAYLIGHT
BEGIN:STANDARD
TZOFFSETFROM:-0400
TZOFFSETTO:-0500
TZNAME:EST
DTSTART:20261101T060000
END:STANDARD
END:VTIMEZONE
BEGIN:VEVENT
DTSTART;TZID=America/New_York:20250811T170000
DTEND;TZID=America/New_York:20250811T190000
DTSTAMP:20260422T081451
CREATED:20250207T215005Z
LAST-MODIFIED:20250207T215015Z
UID:2647-1754931600-1754938800@seacoasttestprep.com
SUMMARY:Late Summer Course for October 4\, 2025 and November 8\, 2025 SAT
DESCRIPTION:Detailed Course Overview \nReading & Writing Session #1: Monday\, August 11\, 2025 5:00pm-7:00pm\nPractice Test #1: Saturday\, August 16\, 2025\, 9:00am-12:00pm\nMath Session #1: Monday\, August 18\, 2025\, 5:00pm-7:00pm\nReading & Writing Session #2: Monday\, August 25\, 2025\, 5:00pm-7:00pm\nMath Session #2: Tuesday\, September 2\, 2025\, 5:00-7:00pm\nReading & Writing Session #3: Monday\, September 8\, 2025\, 5:00pm-7:00pm\nMath Session #3: Monday\, September 15\, 2025\, 5:00pm-7:00pm\nReading & Writing Session #4: Monday\, September 22\, 2025\, 5:00pm-7:00pm\nPractice Test #2 Saturday\, September 27\, 2025 9:00am-12:00pm\nMath Session #4: Monday\, September 29\, 2025\, 5:00pm-7:00pm \nENROLL IN THIS COURSE
URL:https://seacoasttestprep.com/event/late-summer-course-for-october-4-2025-and-november-8-2025-sat/
LOCATION:NH
CATEGORIES:Full Course
END:VEVENT
END:VCALENDAR